BEGIN:VCALENDAR
VERSION:2.0
PRODID:icalendar-ruby
CALSCALE:GREGORIAN
METHOD:PUBLISH
BEGIN:VEVENT
DTSTAMP:20260421T182405Z
UID:158-379896@cacfamily.com
DTSTART:20260522T220000Z
DTEND:20260523T000000Z
CLASS:PUBLIC
CREATED:20260413T075937
DESCRIPTION:A Night of fellowship and fun for couples \nPlease RSVP with s
 ister Scott asap.\nThere will also be no child care. 
LAST-MODIFIED:20260413T075937
LOCATION:10725 Willletts Crossing Road
SUMMARY:Couples Game Night
URL;VALUE=URI:https://cacfamily.com/events/couples-game-night/2026-05-22
ATTACH;FILENAME=IMG_3018.png;FMTTYPE=image/png:https://dq5pwpg1q8ru0.cloudf
 ront.net/2026/04/13/11/59/37/b879df45-7250-4a78-9957-0a31a838b573/IMG_3018
 .png
END:VEVENT
END:VCALENDAR
