BEGIN:VCALENDAR
VERSION:2.0
PRODID:icalendar-ruby
CALSCALE:GREGORIAN
METHOD:PUBLISH
BEGIN:VEVENT
DTSTAMP:20260423T080255Z
UID:5-395516@cacfamily.com
DTSTART:20260920T140000Z
DTEND:20260920T150000Z
CLASS:PUBLIC
CREATED:20260422T223711
DESCRIPTION:Sunday Worship
LAST-MODIFIED:20260422T223711
LOCATION:
SUMMARY:Sunday Worship
URL;VALUE=URI:https://cacfamily.com/events/sunday-worship/2026-09-20
END:VEVENT
END:VCALENDAR
