BEGIN:VCALENDAR
VERSION:2.0
PRODID:icalendar-ruby
CALSCALE:GREGORIAN
METHOD:PUBLISH
BEGIN:VEVENT
DTSTAMP:20260423T150700Z
UID:5-396042@cacfamily.com
DTSTART:20261018T140000Z
DTEND:20261018T150000Z
CLASS:PUBLIC
CREATED:20260423T110016
DESCRIPTION:Sunday Worship
LAST-MODIFIED:20260423T110016
LOCATION:
SUMMARY:Sunday Worship
URL;VALUE=URI:https://cacfamily.com/events/sunday-worship/2026-10-18
END:VEVENT
END:VCALENDAR
